BEGIN:VCALENDAR
VERSION:2.0
PRODID:-//H.E.L.P. Project for Education e.V. - ECPv6.0.13.1//NONSGML v1.0//EN
CALSCALE:GREGORIAN
METHOD:PUBLISH
X-ORIGINAL-URL:https://www.help4e.org
X-WR-CALDESC:Veranstaltungen für H.E.L.P. Project for Education e.V.
REFRESH-INTERVAL;VALUE=DURATION:PT1H
X-Robots-Tag:noindex
X-PUBLISHED-TTL:PT1H
BEGIN:VTIMEZONE
TZID:Europe/Paris
BEGIN:DAYLIGHT
TZOFFSETFROM:+0100
TZOFFSETTO:+0200
TZNAME:CEST
DTSTART:20240331T010000
END:DAYLIGHT
BEGIN:STANDARD
TZOFFSETFROM:+0200
TZOFFSETTO:+0100
TZNAME:CET
DTSTART:20241027T010000
END:STANDARD
END:VTIMEZONE
BEGIN:VEVENT
DTSTART;TZID=Europe/Paris:20240518T170000
DTEND;TZID=Europe/Paris:20240518T220000
DTSTAMP:20260421T233016
CREATED:20240409T135549Z
LAST-MODIFIED:20240409T135608Z
UID:3278-1716051600-1716069600@www.help4e.org
SUMMARY:Weinfest
DESCRIPTION:
URL:https://www.help4e.org/veranstaltung/weinfest-3/
LOCATION:Riedstadion\, Enkheim\, Leuchte 150\, Frankfurt am Main\, Hessen\, 60388\, Deutschland
ORGANIZER;CN="Help%20Project%20for%20Education%20e.%20V.":MAILTO:info@help4e.org
END:VEVENT
END:VCALENDAR